BEGIN:VCALENDAR
VERSION:2.0
PRODID:icalendar-ruby
CALSCALE:GREGORIAN
METHOD:PUBLISH
BEGIN:VEVENT
DTSTAMP:20260423T061530Z
UID:6-502088@dhkidusraguel.org
DTSTART:20261031T010000Z
DTEND:20261031T030000Z
CLASS:PUBLIC
CREATED:20260422T192115
DESCRIPTION:
LAST-MODIFIED:20260422T192115
LOCATION:
SUMMARY:የሠርክ ጉባኤ እና የሕጻናትና ታዳጊዎች 
 ትምህርት
URL;VALUE=URI:https://www.dhkidusraguel.org/events/6/2026-10-30
END:VEVENT
END:VCALENDAR
