BEGIN:VCALENDAR
VERSION:2.0
PRODID:icalendar-ruby
CALSCALE:GREGORIAN
METHOD:PUBLISH
BEGIN:VEVENT
DTSTAMP:20260423T044311Z
UID:6-502087@dhkidusraguel.org
DTSTART:20261024T010000Z
DTEND:20261024T030000Z
CLASS:PUBLIC
CREATED:20260422T192115
DESCRIPTION:
LAST-MODIFIED:20260422T192115
LOCATION:
SUMMARY:የሠርክ ጉባኤ እና የሕጻናትና ታዳጊዎች 
 ትምህርት
URL;VALUE=URI:https://www.dhkidusraguel.org/events/6/2026-10-23
END:VEVENT
END:VCALENDAR
