BEGIN:VCALENDAR
VERSION:2.0
PRODID:icalendar-ruby
CALSCALE:GREGORIAN
METHOD:PUBLISH
BEGIN:VEVENT
DTSTAMP:20260423T002426Z
UID:6-501714@dhkidusraguel.org
DTSTART:20261003T010000Z
DTEND:20261003T030000Z
CLASS:PUBLIC
CREATED:20260422T162757
DESCRIPTION:
LAST-MODIFIED:20260422T162757
LOCATION:
SUMMARY:የሠርክ ጉባኤ እና የሕጻናትና ታዳጊዎች 
 ትምህርት
URL;VALUE=URI:https://www.dhkidusraguel.org/events/6/2026-10-02
END:VEVENT
END:VCALENDAR
