BEGIN:VCALENDAR
VERSION:2.0
PRODID:icalendar-ruby
CALSCALE:GREGORIAN
METHOD:PUBLISH
BEGIN:VEVENT
DTSTAMP:20260422T231202Z
UID:6-501343@dhkidusraguel.org
DTSTART:20260926T010000Z
DTEND:20260926T030000Z
CLASS:PUBLIC
CREATED:20260422T133533
DESCRIPTION:
LAST-MODIFIED:20260422T133533
LOCATION:
SUMMARY:የሠርክ ጉባኤ እና የሕጻናትና ታዳጊዎች 
 ትምህርት
URL;VALUE=URI:https://www.dhkidusraguel.org/events/6/2026-09-25
END:VEVENT
END:VCALENDAR
